BEGIN:VCALENDAR
METHOD:REQUEST
VERSION:2.0
BEGIN:VEVENT
URL:https://viewstub.com/KANKAN-LIVE-IN-NEW-JERSEY-
DTSTART:20230402T180000
DTEND:20230402T220000
SUMMARY;LANGUAGE=en-US:KANKAN - “The RR Tour”
DESCRIPTION;LANGUAGE=en-US:To see more information about this event, please visit: https://viewstub.com/KANKAN-LIVE-IN-NEW-JERSEY-
LOCATION;LANGUAGE=en-US:inperson
END:VEVENT
END:VCALENDAR