BEGIN:VCALENDAR
METHOD:REQUEST
VERSION:2.0
BEGIN:VEVENT
URL:https://viewstub.com/LYF-AND-FRIENDS-NETWORKING-EVENT-10-6-22
DTSTART:20221006T190000
DTEND:20221006T230000
SUMMARY;LANGUAGE=en-US:LYF AND FRIENDS NETWORKING EVENT 10.6.22
DESCRIPTION;LANGUAGE=en-US:To see more information about this event, please visit: https://viewstub.com/LYF-AND-FRIENDS-NETWORKING-EVENT-10-6-22
LOCATION;LANGUAGE=en-US:inperson
END:VEVENT
END:VCALENDAR