BEGIN:VCALENDAR
METHOD:REQUEST
VERSION:2.0
BEGIN:VEVENT
URL:https://viewstub.com/LYF-AND-FRIENDS-PRESENTS-TAYTHEDXN-aka-LXRDKAVI-aka-ALUCARD
DTSTART:20230122T180000
DTEND:20230122T210000
SUMMARY;LANGUAGE=en-US:LYF AND FRIENDS PRESENTS: TAYTHEDXN w/ YNW BSlime Live in NJ!
DESCRIPTION;LANGUAGE=en-US:To see more information about this event, please visit: https://viewstub.com/LYF-AND-FRIENDS-PRESENTS-TAYTHEDXN-aka-LXRDKAVI-aka-ALUCARD
LOCATION;LANGUAGE=en-US:inperson
END:VEVENT
END:VCALENDAR