BEGIN:VCALENDAR
METHOD:REQUEST
VERSION:2.0
BEGIN:VEVENT
URL:https://viewstub.com/La-Verne-Elite-vs-La-Palma-Padres-2-18-21-Live-Stream
DTSTART:20210218T163000
DTEND:20210218T190000
SUMMARY;LANGUAGE=en-US:La Verne Elite vs La Palma Padres 2/18/21 Live Stream
DESCRIPTION;LANGUAGE=en-US:To see more information about this event, please visit: https://viewstub.com/La-Verne-Elite-vs-La-Palma-Padres-2-18-21-Live-Stream
LOCATION;LANGUAGE=en-US:virtual
END:VEVENT
END:VCALENDAR