BEGIN:VCALENDAR
METHOD:REQUEST
VERSION:2.0
BEGIN:VEVENT
URL:https://viewstub.com/LaughandLearn
DTSTART:20210914T173000
DTEND:20210914T203000
SUMMARY;LANGUAGE=en-US:Laugh & Learn: Achieving Event Magic with Improv Comedy
DESCRIPTION;LANGUAGE=en-US:To see more information about this event, please visit: https://viewstub.com/LaughandLearn
LOCATION;LANGUAGE=en-US:inperson
END:VEVENT
END:VCALENDAR