BEGIN:VCALENDAR
METHOD:REQUEST
VERSION:2.0
BEGIN:VEVENT
URL:https://viewstub.com/Legends-vs-CBA-Beavers-3-6-21-Live-Stream
DTSTART:20210306T161500
DTEND:20210306T183000
SUMMARY;LANGUAGE=en-US:Legends vs RC Cougars 3/6/21 Live Stream
DESCRIPTION;LANGUAGE=en-US:To see more information about this event, please visit: https://viewstub.com/Legends-vs-CBA-Beavers-3-6-21-Live-Stream
LOCATION;LANGUAGE=en-US:virtual
END:VEVENT
END:VCALENDAR