BEGIN:VCALENDAR
METHOD:REQUEST
VERSION:2.0
BEGIN:VEVENT
URL:https://viewstub.com/Legends-vs-PFA-2-15-21-Livestream-
DTSTART:20210215T124500
DTEND:20210215T140500
SUMMARY;LANGUAGE=en-US:Legends vs PFA 2/15/21 Livestream
DESCRIPTION;LANGUAGE=en-US:To see more information about this event, please visit: https://viewstub.com/Legends-vs-PFA-2-15-21-Livestream-
LOCATION;LANGUAGE=en-US:virtual
END:VEVENT
END:VCALENDAR