BEGIN:VCALENDAR
METHOD:REQUEST
VERSION:2.0
BEGIN:VEVENT
URL:https://viewstub.com/LinkedIn-5-Day-Workshop-Review
DTSTART:20210611T000000
DTEND:20210630T120000
SUMMARY;LANGUAGE=en-US:LinkedIn 5 Day Workshop Review
DESCRIPTION;LANGUAGE=en-US:To see more information about this event, please visit: https://viewstub.com/LinkedIn-5-Day-Workshop-Review
LOCATION;LANGUAGE=en-US:virtual
END:VEVENT
END:VCALENDAR