BEGIN:VCALENDAR
METHOD:REQUEST
VERSION:2.0
BEGIN:VEVENT
URL:https://viewstub.com/LittleBlackDress
DTSTART:20220923T200000
DTEND:20220924T020000
SUMMARY;LANGUAGE=en-US:Caliente Friday Gabriela Little Black Dress B-Day + Anna Navarro Spain DJs BAD Frankie & Philly Boy
DESCRIPTION;LANGUAGE=en-US:To see more information about this event, please visit: https://viewstub.com/LittleBlackDress
LOCATION;LANGUAGE=en-US:inperson
END:VEVENT
END:VCALENDAR