BEGIN:VCALENDAR
METHOD:REQUEST
VERSION:2.0
BEGIN:VEVENT
URL:https://viewstub.com/LiveWireCafe
DTSTART:20201103T150000
DTEND:20201118T150000
SUMMARY;LANGUAGE=en-US:Live Wire Cafe 11-18
DESCRIPTION;LANGUAGE=en-US:To see more information about this event, please visit: https://viewstub.com/LiveWireCafe
LOCATION;LANGUAGE=en-US:inperson
END:VEVENT
END:VCALENDAR