BEGIN:VCALENDAR
METHOD:REQUEST
VERSION:2.0
BEGIN:VEVENT
URL:https://viewstub.com/March-30-Napolitano-vs-Young
DTSTART:20240330T190000
DTEND:20240331T010000
SUMMARY;LANGUAGE=en-US:3LP Presents: Napolitano vs Young - March 30th - Hamilton Convention Centre
DESCRIPTION;LANGUAGE=en-US:To see more information about this event, please visit: https://viewstub.com/March-30-Napolitano-vs-Young
LOCATION;LANGUAGE=en-US:hybrid
END:VEVENT
END:VCALENDAR