BEGIN:VCALENDAR
METHOD:REQUEST
VERSION:2.0
BEGIN:VEVENT
URL:https://viewstub.com/Mavericks-vs-Ports
DTSTART:20210214T110000
DTEND:20210214T140000
SUMMARY;LANGUAGE=en-US:Mavericks vs Ports 2/14/21 Live Stream
DESCRIPTION;LANGUAGE=en-US:To see more information about this event, please visit: https://viewstub.com/Mavericks-vs-Ports
LOCATION;LANGUAGE=en-US:virtual
END:VEVENT
END:VCALENDAR