BEGIN:VCALENDAR
METHOD:REQUEST
VERSION:2.0
BEGIN:VEVENT
URL:https://viewstub.com/Maximize-Your-Potential
DTSTART:20200825T180000
DTEND:20200825T200000
SUMMARY;LANGUAGE=en-US:Maximize Your Potential - Mental and Physical Tips for Success
DESCRIPTION;LANGUAGE=en-US:To see more information about this event, please visit: https://viewstub.com/Maximize-Your-Potential
LOCATION;LANGUAGE=en-US:virtual
END:VEVENT
END:VCALENDAR