BEGIN:VCALENDAR
METHOD:REQUEST
VERSION:2.0
BEGIN:VEVENT
URL:https://viewstub.com/Meet-the-medics-1772316033
DTSTART:20210324T190000
DTEND:20210324T210000
SUMMARY;LANGUAGE=en-US:Meet the medics
DESCRIPTION;LANGUAGE=en-US:To see more information about this event, please visit: https://viewstub.com/Meet-the-medics-1772316033
LOCATION;LANGUAGE=en-US:virtual
END:VEVENT
END:VCALENDAR