BEGIN:VCALENDAR
METHOD:REQUEST
VERSION:2.0
BEGIN:VEVENT
URL:https://viewstub.com/Mobetta-Thursdays-Curated-By-Maurice-Brown-Presents-Big-September-16th-40311930Yuki
DTSTART:20210916T190000
DTEND:20210917T020500
SUMMARY;LANGUAGE=en-US:Mobetta Thursdays Curated By Maurice Brown Presents: Big Yuki  September 16th
DESCRIPTION;LANGUAGE=en-US:To see more information about this event, please visit: https://viewstub.com/Mobetta-Thursdays-Curated-By-Maurice-Brown-Presents-Big-September-16th-40311930Yuki
LOCATION;LANGUAGE=en-US:inperson
END:VEVENT
END:VCALENDAR