BEGIN:VCALENDAR
METHOD:REQUEST
VERSION:2.0
BEGIN:VEVENT
URL:https://viewstub.com/MunchMensch
DTSTART:20200822T170000
DTEND:20200822T180000
SUMMARY;LANGUAGE=en-US:1st Annual Virtual Safety Munch & Mensh powered by Safety FM
DESCRIPTION;LANGUAGE=en-US:To see more information about this event, please visit: https://viewstub.com/MunchMensch
LOCATION;LANGUAGE=en-US:virtual
END:VEVENT
END:VCALENDAR