BEGIN:VCALENDAR
METHOD:REQUEST
VERSION:2.0
BEGIN:VEVENT
URL:https://viewstub.com/NETWORKING-EVENT-10-2-22
DTSTART:20221002T180000
DTEND:20221002T220000
SUMMARY;LANGUAGE=en-US:LYF AND FRIENDS NETWORKING EVENT 10.2.22
DESCRIPTION;LANGUAGE=en-US:To see more information about this event, please visit: https://viewstub.com/NETWORKING-EVENT-10-2-22
LOCATION;LANGUAGE=en-US:inperson
END:VEVENT
END:VCALENDAR