BEGIN:VCALENDAR
METHOD:REQUEST
VERSION:2.0
BEGIN:VEVENT
URL:https://viewstub.com/NETWORKING-EVENT-JERSEY-EDITION-
DTSTART:20230709T180000
DTEND:20230709T220000
SUMMARY;LANGUAGE=en-US:NETWORKING EVENT: JERSEY EDITION!
DESCRIPTION;LANGUAGE=en-US:To see more information about this event, please visit: https://viewstub.com/NETWORKING-EVENT-JERSEY-EDITION-
LOCATION;LANGUAGE=en-US:inperson
END:VEVENT
END:VCALENDAR