BEGIN:VCALENDAR
METHOD:REQUEST
VERSION:2.0
BEGIN:VEVENT
URL:https://viewstub.com/NEW-JERSEY-ARTIST-NETWORKING-EVENT
DTSTART:20240404T190000
DTEND:20240404T230000
SUMMARY;LANGUAGE=en-US:NEW JERSEY ARTIST NETWORKING EVENT
DESCRIPTION;LANGUAGE=en-US:To see more information about this event, please visit: https://viewstub.com/NEW-JERSEY-ARTIST-NETWORKING-EVENT
LOCATION;LANGUAGE=en-US:inperson
END:VEVENT
END:VCALENDAR