BEGIN:VCALENDAR
METHOD:REQUEST
VERSION:2.0
BEGIN:VEVENT
URL:https://viewstub.com/New-Town-Spares
DTSTART:20231021T000000
DTEND:20411012T000000
SUMMARY;LANGUAGE=en-US:New Town Spares
DESCRIPTION;LANGUAGE=en-US:To see more information about this event, please visit: https://viewstub.com/New-Town-Spares
LOCATION;LANGUAGE=en-US:inperson
END:VEVENT
END:VCALENDAR