BEGIN:VCALENDAR
METHOD:REQUEST
VERSION:2.0
BEGIN:VEVENT
URL:https://viewstub.com/Nuts-vs-Mavericks-2-21-21-Live-Stream
DTSTART:20210221T160000
DTEND:20210221T183000
SUMMARY;LANGUAGE=en-US:Nuts vs Mavericks 2/21/21 Live Stream
DESCRIPTION;LANGUAGE=en-US:To see more information about this event, please visit: https://viewstub.com/Nuts-vs-Mavericks-2-21-21-Live-Stream
LOCATION;LANGUAGE=en-US:virtual
END:VEVENT
END:VCALENDAR