BEGIN:VCALENDAR
METHOD:REQUEST
VERSION:2.0
BEGIN:VEVENT
URL:https://viewstub.com/Nuts-vs-Ports-31421-Live-Stream
DTSTART:20210314T122000
DTEND:20210314T143000
SUMMARY;LANGUAGE=en-US:Nuts vs Ports 3/14/21 Live Stream
DESCRIPTION;LANGUAGE=en-US:To see more information about this event, please visit: https://viewstub.com/Nuts-vs-Ports-31421-Live-Stream
LOCATION;LANGUAGE=en-US:virtual
END:VEVENT
END:VCALENDAR