BEGIN:VCALENDAR
METHOD:REQUEST
VERSION:2.0
BEGIN:VEVENT
URL:https://viewstub.com/OAWDAlbumRelease
DTSTART:20211105T190000
DTEND:20211105T220000
SUMMARY;LANGUAGE=en-US:Our Ancestors' Wildest Dreams Album Release
DESCRIPTION;LANGUAGE=en-US:To see more information about this event, please visit: https://viewstub.com/OAWDAlbumRelease
LOCATION;LANGUAGE=en-US:inperson
END:VEVENT
END:VCALENDAR