BEGIN:VCALENDAR
METHOD:REQUEST
VERSION:2.0
BEGIN:VEVENT
URL:https://viewstub.com/OC-Lightning-vs-La-Verne-Elite-3-3-21-Live-Stream
DTSTART:20210303T164500
DTEND:20210303T190000
SUMMARY;LANGUAGE=en-US:OC Lightning vs La Verne Elite 3/3/21 Live Stream
DESCRIPTION;LANGUAGE=en-US:To see more information about this event, please visit: https://viewstub.com/OC-Lightning-vs-La-Verne-Elite-3-3-21-Live-Stream
LOCATION;LANGUAGE=en-US:virtual
END:VEVENT
END:VCALENDAR