BEGIN:VCALENDAR
METHOD:REQUEST
VERSION:2.0
BEGIN:VEVENT
URL:https://viewstub.com/Operatic-Masterworks
DTSTART:20240808T200000
DTEND:20240808T223000
SUMMARY;LANGUAGE=en-US:Summer Serenades - Operatic Masterworks
DESCRIPTION;LANGUAGE=en-US:To see more information about this event, please visit: https://viewstub.com/Operatic-Masterworks
LOCATION;LANGUAGE=en-US:inperson
END:VEVENT
END:VCALENDAR