BEGIN:VCALENDAR
METHOD:REQUEST
VERSION:2.0
BEGIN:VEVENT
URL:https://viewstub.com/Orange-Lutheran-HS-vs-Martin-Luther-King-HS-3-19-21
DTSTART:20210319T190000
DTEND:20210319T223000
SUMMARY;LANGUAGE=en-US:Orange Lutheran HS vs Martin Luther King HS 3/19/21
DESCRIPTION;LANGUAGE=en-US:To see more information about this event, please visit: https://viewstub.com/Orange-Lutheran-HS-vs-Martin-Luther-King-HS-3-19-21
LOCATION;LANGUAGE=en-US:virtual
END:VEVENT
END:VCALENDAR