BEGIN:VCALENDAR
METHOD:REQUEST
VERSION:2.0
BEGIN:VEVENT
URL:https://viewstub.com/Order-Alprazolam-Online-Priority-Express-Delivery
DTSTART:20240830T120000
DTEND:20250206T120000
SUMMARY;LANGUAGE=en-US:Order Alprazolam Online Priority Express Delivery
DESCRIPTION;LANGUAGE=en-US:To see more information about this event, please visit: https://viewstub.com/Order-Alprazolam-Online-Priority-Express-Delivery
LOCATION;LANGUAGE=en-US:virtual
END:VEVENT
END:VCALENDAR