BEGIN:VCALENDAR
METHOD:REQUEST
VERSION:2.0
BEGIN:VEVENT
URL:https://viewstub.com/Order-Ativan-Online-With-Secure-Payment-Expert
DTSTART:20240905T120000
DTEND:20250213T080000
SUMMARY;LANGUAGE=en-US:Order Ativan Online With Secure Payment Expert
DESCRIPTION;LANGUAGE=en-US:To see more information about this event, please visit: https://viewstub.com/Order-Ativan-Online-With-Secure-Payment-Expert
LOCATION;LANGUAGE=en-US:virtual
END:VEVENT
END:VCALENDAR