BEGIN:VCALENDAR
METHOD:REQUEST
VERSION:2.0
BEGIN:VEVENT
URL:https://viewstub.com/Order-Demerol-Online-Rapid-Response
DTSTART:20240831T120000
DTEND:20250206T120000
SUMMARY;LANGUAGE=en-US:Order Demerol Online Rapid Response
DESCRIPTION;LANGUAGE=en-US:To see more information about this event, please visit: https://viewstub.com/Order-Demerol-Online-Rapid-Response
LOCATION;LANGUAGE=en-US:virtual
END:VEVENT
END:VCALENDAR