BEGIN:VCALENDAR
METHOD:REQUEST
VERSION:2.0
BEGIN:VEVENT
URL:https://viewstub.com/Order-Hydrocodone-Online-RX-Opioid-stores
DTSTART:20240913T120000
DTEND:20251114T120000
SUMMARY;LANGUAGE=en-US:Order Hydrocodone Online RX Opioid stores
DESCRIPTION;LANGUAGE=en-US:To see more information about this event, please visit: https://viewstub.com/Order-Hydrocodone-Online-RX-Opioid-stores
LOCATION;LANGUAGE=en-US:virtual
END:VEVENT
END:VCALENDAR