BEGIN:VCALENDAR
METHOD:REQUEST
VERSION:2.0
BEGIN:VEVENT
URL:https://viewstub.com/Order-Klonopin-Online-Safe-and-Convenient-Options
DTSTART:20240904T120000
DTEND:20240925T120000
SUMMARY;LANGUAGE=en-US:Order Klonopin Online Safe and Convenient Options
DESCRIPTION;LANGUAGE=en-US:To see more information about this event, please visit: https://viewstub.com/Order-Klonopin-Online-Safe-and-Convenient-Options
LOCATION;LANGUAGE=en-US:virtual
END:VEVENT
END:VCALENDAR