BEGIN:VCALENDAR
METHOD:REQUEST
VERSION:2.0
BEGIN:VEVENT
URL:https://viewstub.com/PFA-vs-CBA-Beavers-3-13-21-Live-Stream
DTSTART:20210313T184500
DTEND:20210313T213000
SUMMARY;LANGUAGE=en-US:PFA vs CBA Beavers 3/13/21 Live Stream
DESCRIPTION;LANGUAGE=en-US:To see more information about this event, please visit: https://viewstub.com/PFA-vs-CBA-Beavers-3-13-21-Live-Stream
LOCATION;LANGUAGE=en-US:virtual
END:VEVENT
END:VCALENDAR