BEGIN:VCALENDAR
METHOD:REQUEST
VERSION:2.0
BEGIN:VEVENT
URL:https://viewstub.com/PFA-vs-SGV-Rays-2-20-21-Live-Stream
DTSTART:20210220T163000
DTEND:20210220T183000
SUMMARY;LANGUAGE=en-US:PFA vs SGV Rays 2/20/21 Live Stream
DESCRIPTION;LANGUAGE=en-US:To see more information about this event, please visit: https://viewstub.com/PFA-vs-SGV-Rays-2-20-21-Live-Stream
LOCATION;LANGUAGE=en-US:virtual
END:VEVENT
END:VCALENDAR