BEGIN:VCALENDAR
METHOD:REQUEST
VERSION:2.0
BEGIN:VEVENT
URL:https://viewstub.com/Por-Una-Cabeza-Sanford
DTSTART:20240913T200000
DTEND:20240913T223000
SUMMARY;LANGUAGE=en-US:Summer Serenades - Por Una Cabeza (Sanford)
DESCRIPTION;LANGUAGE=en-US:To see more information about this event, please visit: https://viewstub.com/Por-Una-Cabeza-Sanford
LOCATION;LANGUAGE=en-US:inperson
END:VEVENT
END:VCALENDAR