BEGIN:VCALENDAR
METHOD:REQUEST
VERSION:2.0
BEGIN:VEVENT
URL:https://viewstub.com/Por-Una-Cabeza-WinterGarden
DTSTART:20240920T193000
DTEND:20240920T220000
SUMMARY;LANGUAGE=en-US:Summer Serenades - Por Una Cabeza (Winter Garden)
DESCRIPTION;LANGUAGE=en-US:To see more information about this event, please visit: https://viewstub.com/Por-Una-Cabeza-WinterGarden
LOCATION;LANGUAGE=en-US:inperson
END:VEVENT
END:VCALENDAR