BEGIN:VCALENDAR
METHOD:REQUEST
VERSION:2.0
BEGIN:VEVENT
URL:https://viewstub.com/Ports-vs-Jethawks-2-21-21-Live-Stream
DTSTART:20210221T190000
DTEND:20210221T213000
SUMMARY;LANGUAGE=en-US:Ports vs Jethawks 2/21/21 Live Stream
DESCRIPTION;LANGUAGE=en-US:To see more information about this event, please visit: https://viewstub.com/Ports-vs-Jethawks-2-21-21-Live-Stream
LOCATION;LANGUAGE=en-US:virtual
END:VEVENT
END:VCALENDAR