BEGIN:VCALENDAR
METHOD:REQUEST
VERSION:2.0
BEGIN:VEVENT
URL:https://viewstub.com/Pro-Am-Scout-Day-Afternoon-Session-Live-Stream
DTSTART:20210213T143000
DTEND:20210213T173000
SUMMARY;LANGUAGE=en-US:Pro-Am Scout Day Afternoon Session Live Stream
DESCRIPTION;LANGUAGE=en-US:To see more information about this event, please visit: https://viewstub.com/Pro-Am-Scout-Day-Afternoon-Session-Live-Stream
LOCATION;LANGUAGE=en-US:virtual
END:VEVENT
END:VCALENDAR