BEGIN:VCALENDAR
METHOD:REQUEST
VERSION:2.0
BEGIN:VEVENT
URL:https://viewstub.com/Pro-Am-Scout-Day-Group-1
DTSTART:20210213T210000
DTEND:20210213T143000
SUMMARY;LANGUAGE=en-US:Pro-Am Scout Day Morning Session Live Stream
DESCRIPTION;LANGUAGE=en-US:To see more information about this event, please visit: https://viewstub.com/Pro-Am-Scout-Day-Group-1
LOCATION;LANGUAGE=en-US:virtual
END:VEVENT
END:VCALENDAR