BEGIN:VCALENDAR
METHOD:REQUEST
VERSION:2.0
BEGIN:VEVENT
URL:https://viewstub.com/Pro-Ambitions-Summer-League
DTSTART:20210711T100000
DTEND:20210711T170000
SUMMARY;LANGUAGE=en-US:Pro Ambitions Summer League
DESCRIPTION;LANGUAGE=en-US:To see more information about this event, please visit: https://viewstub.com/Pro-Ambitions-Summer-League
LOCATION;LANGUAGE=en-US:hybrid
END:VEVENT
END:VCALENDAR