BEGIN:VCALENDAR
METHOD:REQUEST
VERSION:2.0
BEGIN:VEVENT
URL:https://viewstub.com/Pro-Ambitions-Summer-League2021
DTSTART:20210710T100000
DTEND:20210725T150000
SUMMARY;LANGUAGE=en-US:Pro Ambitions Summer League
DESCRIPTION;LANGUAGE=en-US:To see more information about this event, please visit: https://viewstub.com/Pro-Ambitions-Summer-League2021
LOCATION;LANGUAGE=en-US:https://viewstub.com/Pro-Ambitions-Summer-League2021
END:VEVENT
END:VCALENDAR