BEGIN:VCALENDAR
METHOD:REQUEST
VERSION:2.0
BEGIN:VEVENT
URL:https://viewstub.com/Quakes-vs-66ers-2-14-21-Live-Stream
DTSTART:20210214T150000
DTEND:20210214T180000
SUMMARY;LANGUAGE=en-US:Quakes vs 66ers 2/14/21 Live Stream
DESCRIPTION;LANGUAGE=en-US:To see more information about this event, please visit: https://viewstub.com/Quakes-vs-66ers-2-14-21-Live-Stream
LOCATION;LANGUAGE=en-US:virtual
END:VEVENT
END:VCALENDAR