BEGIN:VCALENDAR
METHOD:REQUEST
VERSION:2.0
BEGIN:VEVENT
URL:https://viewstub.com/Quakes-vs-Jethawks-31421-Live-Stream
DTSTART:20210314T160000
DTEND:20210314T181500
SUMMARY;LANGUAGE=en-US:Quakes vs Jethawks 3/14/21 Live Stream
DESCRIPTION;LANGUAGE=en-US:To see more information about this event, please visit: https://viewstub.com/Quakes-vs-Jethawks-31421-Live-Stream
LOCATION;LANGUAGE=en-US:virtual
END:VEVENT
END:VCALENDAR