BEGIN:VCALENDAR
METHOD:REQUEST
VERSION:2.0
BEGIN:VEVENT
URL:https://viewstub.com/Queens-Underground-Feb-April-Black-History-Month-Film-Festival
DTSTART:20220413T120000
DTEND:20220531T000000
SUMMARY;LANGUAGE=en-US:Queens Underground February & April Black History Month Film Festival
DESCRIPTION;LANGUAGE=en-US:To see more information about this event, please visit: https://viewstub.com/Queens-Underground-Feb-April-Black-History-Month-Film-Festival
LOCATION;LANGUAGE=en-US:virtual
END:VEVENT
END:VCALENDAR