BEGIN:VCALENDAR
METHOD:REQUEST
VERSION:2.0
BEGIN:VEVENT
URL:https://viewstub.com/QueensUndergroundBlackandBrownFilmFestival
DTSTART:20210220T120000
DTEND:20210425T120000
SUMMARY;LANGUAGE=en-US:Queens Underground Blackand Brown Film Festival
DESCRIPTION;LANGUAGE=en-US:To see more information about this event, please visit: https://viewstub.com/QueensUndergroundBlackandBrownFilmFestival
LOCATION;LANGUAGE=en-US:hybrid
END:VEVENT
END:VCALENDAR