BEGIN:VCALENDAR
METHOD:REQUEST
VERSION:2.0
BEGIN:VEVENT
URL:https://viewstub.com/QueensUndergroundBlackandBrownFilmFestival-573637840
DTSTART:20210416T160000
DTEND:20210530T000000
SUMMARY;LANGUAGE=en-US:Queens Underground Black and Brown Film Festival
DESCRIPTION;LANGUAGE=en-US:To see more information about this event, please visit: https://viewstub.com/QueensUndergroundBlackandBrownFilmFestival-573637840
LOCATION;LANGUAGE=en-US:hybrid
END:VEVENT
END:VCALENDAR