BEGIN:VCALENDAR
METHOD:REQUEST
VERSION:2.0
BEGIN:VEVENT
URL:https://viewstub.com/QueensUndergroundOct2021
DTSTART:20211029T190000
DTEND:20211101T000000
SUMMARY;LANGUAGE=en-US:Queens Underground October 2021 Film Fest -Available on Halloween
DESCRIPTION;LANGUAGE=en-US:To see more information about this event, please visit: https://viewstub.com/QueensUndergroundOct2021
LOCATION;LANGUAGE=en-US:virtual
END:VEVENT
END:VCALENDAR