BEGIN:VCALENDAR
METHOD:REQUEST
VERSION:2.0
BEGIN:VEVENT
URL:https://viewstub.com/QuickBooks-Paystub-Password-
DTSTART:20230426T120000
DTEND:20240209T120000
SUMMARY;LANGUAGE=en-US:QuickBooks Paystub Password
DESCRIPTION;LANGUAGE=en-US:To see more information about this event, please visit: https://viewstub.com/QuickBooks-Paystub-Password-
LOCATION;LANGUAGE=en-US:https://viewstub.com/QuickBooks-Paystub-Password-
END:VEVENT
END:VCALENDAR