BEGIN:VCALENDAR
METHOD:REQUEST
VERSION:2.0
BEGIN:VEVENT
URL:https://viewstub.com/RGSrevolutionarylovelive
DTSTART:20210228T190000
DTEND:20210328T230000
SUMMARY;LANGUAGE=en-US:RubyGld Smoke The Revolutionary Love Virtual Concert
DESCRIPTION;LANGUAGE=en-US:To see more information about this event, please visit: https://viewstub.com/RGSrevolutionarylovelive
LOCATION;LANGUAGE=en-US:virtual
END:VEVENT
END:VCALENDAR