BEGIN:VCALENDAR
METHOD:REQUEST
VERSION:2.0
BEGIN:VEVENT
URL:https://viewstub.com/RICH-AMIRI-LIVE-IN-CLIFTON-NJ-
DTSTART:20230817T190000
DTEND:20230817T230000
SUMMARY;LANGUAGE=en-US:RICH AMIRI, Slump6s & DevStacks LIVE IN CLIFTON, NJ!
DESCRIPTION;LANGUAGE=en-US:To see more information about this event, please visit: https://viewstub.com/RICH-AMIRI-LIVE-IN-CLIFTON-NJ-
LOCATION;LANGUAGE=en-US:inperson
END:VEVENT
END:VCALENDAR