BEGIN:VCALENDAR
METHOD:REQUEST
VERSION:2.0
BEGIN:VEVENT
URL:https://viewstub.com/Redland-Reds-vs-PFA-3-13-21-Live-Stream
DTSTART:20210313T161500
DTEND:20210313T183000
SUMMARY;LANGUAGE=en-US:Redland Reds vs PFA 3/13/21 Live Stream
DESCRIPTION;LANGUAGE=en-US:To see more information about this event, please visit: https://viewstub.com/Redland-Reds-vs-PFA-3-13-21-Live-Stream
LOCATION;LANGUAGE=en-US:virtual
END:VEVENT
END:VCALENDAR